BEGIN:VCALENDAR
VERSION:2.0
PRODID:-//The Partnership TMA of Montgomery County - ECPv5.4.0.1//NONSGML v1.0//EN
CALSCALE:GREGORIAN
METHOD:PUBLISH
X-WR-CALNAME:The Partnership TMA of Montgomery County
X-ORIGINAL-URL:https://ptma-mc.org
X-WR-CALDESC:Events for The Partnership TMA of Montgomery County
BEGIN:VTIMEZONE
TZID:UTC
BEGIN:STANDARD
TZOFFSETFROM:+0000
TZOFFSETTO:+0000
TZNAME:UTC
DTSTART:20220101T000000
END:STANDARD
END:VTIMEZONE
BEGIN:VEVENT
DTSTART;TZID=UTC:20221115T140000
DTEND;TZID=UTC:20221115T160000
DTSTAMP:20260421T111552
CREATED:20221021T154325Z
LAST-MODIFIED:20221024T155723Z
UID:636-1668520800-1668528000@ptma-mc.org
SUMMARY:PennDOT National Electric Vehicle Infrastructure Stakeholder Information Session
DESCRIPTION:An educational stakeholder session highlighting the state plan for the National Electric Vehicle Infrastructure (NEVI) Formula Program. These sessions will include a presentation portion\, followed by an opportunity to network and expand professional connections and partnerships. \nRegister online at: https://forms.office.com/g/ziDbubcqDZ \n 
URL:https://ptma-mc.org/event/penndot-national-electric-vehicle-infrastructure-stakeholder-information-session/
LOCATION:Montgomery County Community College\, College Hall Room 144​ Montgomery County Community College Blue Bell Campus 340 DeKalb Pike\, Blue Bell\, PA\, 19422
END:VEVENT
END:VCALENDAR