BEGIN:VCALENDAR
VERSION:2.0
PRODID:-//The Partnership TMA of Montgomery County - ECPv5.4.0.1//NONSGML v1.0//EN
CALSCALE:GREGORIAN
METHOD:PUBLISH
X-WR-CALNAME:The Partnership TMA of Montgomery County
X-ORIGINAL-URL:https://ptma-mc.org
X-WR-CALDESC:Events for The Partnership TMA of Montgomery County
BEGIN:VTIMEZONE
TZID:UTC
BEGIN:STANDARD
TZOFFSETFROM:+0000
TZOFFSETTO:+0000
TZNAME:UTC
DTSTART:20230101T000000
END:STANDARD
END:VTIMEZONE
BEGIN:VEVENT
DTSTART;TZID=UTC:20230801T180000
DTEND;TZID=UTC:20230801T210000
DTSTAMP:20260424T133112
CREATED:20230711T141720Z
LAST-MODIFIED:20230727T172621Z
UID:753-1690912800-1690923600@ptma-mc.org
SUMMARY:Montgomery Township National Night Out
DESCRIPTION:Join us at Montgomery Township National Night Out to learn about bicycle safety and bicycling as a transportation option\, new rewards programs for taking greener trips\, and alternative transportation options in the area to improve air quality and reduce congestion. Play bicycle safety trivia to win a free bike light!
URL:https://ptma-mc.org/event/montgomery-township-national-night-out/
LOCATION:Windelstrae Park\, Montgomeryville\, PA
END:VEVENT
END:VCALENDAR